BEGIN:VCALENDAR
VERSION:2.0
PRODID:-//Burlington Economic Development and Tourism - ECPv6.15.20//NONSGML v1.0//EN
CALSCALE:GREGORIAN
METHOD:PUBLISH
X-WR-CALNAME:Burlington Economic Development and Tourism
X-ORIGINAL-URL:https://tourismburlington.ca
X-WR-CALDESC:Events for Burlington Economic Development and Tourism
REFRESH-INTERVAL;VALUE=DURATION:PT1H
X-Robots-Tag:noindex
X-PUBLISHED-TTL:PT1H
BEGIN:VTIMEZONE
TZID:America/New_York
BEGIN:DAYLIGHT
TZOFFSETFROM:-0500
TZOFFSETTO:-0400
TZNAME:EDT
DTSTART:20250309T070000
END:DAYLIGHT
BEGIN:STANDARD
TZOFFSETFROM:-0400
TZOFFSETTO:-0500
TZNAME:EST
DTSTART:20251102T060000
END:STANDARD
BEGIN:DAYLIGHT
TZOFFSETFROM:-0500
TZOFFSETTO:-0400
TZNAME:EDT
DTSTART:20260308T070000
END:DAYLIGHT
BEGIN:STANDARD
TZOFFSETFROM:-0400
TZOFFSETTO:-0500
TZNAME:EST
DTSTART:20261101T060000
END:STANDARD
BEGIN:DAYLIGHT
TZOFFSETFROM:-0500
TZOFFSETTO:-0400
TZNAME:EDT
DTSTART:20270314T070000
END:DAYLIGHT
BEGIN:STANDARD
TZOFFSETFROM:-0400
TZOFFSETTO:-0500
TZNAME:EST
DTSTART:20271107T060000
END:STANDARD
END:VTIMEZONE
BEGIN:VEVENT
DTSTART;TZID=America/New_York:20260605T190000
DTEND;TZID=America/New_York:20260605T200000
DTSTAMP:20260420T084833
CREATED:20260219T153805Z
LAST-MODIFIED:20260307T194403Z
UID:86149-1780686000-1780689600@tourismburlington.ca
SUMMARY:Playtime
DESCRIPTION:Theatre Burlington is pleased to present “Playtime”\, our annual 10-minute play festival. Come and enjoy several short plays written\, directed and acted by local artists.
URL:https://tourismburlington.ca/event/https-www-theatreburlington-on-ca-shows-playtime/
LOCATION:Theater Burlington\, 2311 New street\, Burlington\, ON
CATEGORIES:Arts & Culture,Live Music & Entertainment
ATTACH;FMTTYPE=image/webp:https://tourismburlington.ca/wp-content/uploads/2026/02/Screenshot2025-07-17at3.31.38-PM-1920w.webp
END:VEVENT
BEGIN:VEVENT
DTSTART;VALUE=DATE:20260606
DTEND;VALUE=DATE:20260607
DTSTAMP:20260420T084833
CREATED:20260219T153906Z
LAST-MODIFIED:20260219T153906Z
UID:86150-1780704000-1780790399@tourismburlington.ca
SUMMARY:Play Time - a 10 minute play festival
DESCRIPTION:Theatre Burlington is pleased to present “Playtime”\, our annual 10-minute play festival. Come and enjoy several short plays written\, directed and acted by local artists.
URL:https://tourismburlington.ca/event/play-time-a-10-minute-play-festival-3/
LOCATION:Theater Burlington\, 2311 New street\, Burlington\, ON
CATEGORIES:Arts & Culture,Live Music & Entertainment
ATTACH;FMTTYPE=image/webp:https://tourismburlington.ca/wp-content/uploads/2026/02/Screenshot2025-07-17at3.31.38-PM-1920w.webp
END:VEVENT
BEGIN:VEVENT
DTSTART;VALUE=DATE:20260620
DTEND;VALUE=DATE:20260621
DTSTAMP:20260420T084833
CREATED:20260417T161207Z
LAST-MODIFIED:20260417T161207Z
UID:86543-1781913600-1781999999@tourismburlington.ca
SUMMARY:Lakeshore Music and Arts Festival
DESCRIPTION:Lakeshore Music & Arts Festival is a free\, two-day outdoor celebration taking place June 20–21\, 2026\, at Burlington’s iconic Spencer Smith Park. Set along the city’s stunning waterfront\, the festival will come alive as a vibrant\, multi-stage experience featuring nationally celebrated Canadian artists\, emerging performers\, local artisans\, an extensive selection of food trucks\, and engaging family-friendly programming. Lakeshore is poised to become one of Ontario’s premier outdoor music and cultural events for years to come.
URL:https://tourismburlington.ca/event/lakeshore-music-and-arts-festival/
LOCATION:Spencer Smith Park\, 1400 Lakeshore Road\, Burlington\, Ontario\, LY2 1Y2\, Canada
CATEGORIES:Arts & Culture,Family-Friendly,Featured Events,Festivals & Celebrations,Live Music & Entertainment,Markets & Shopping
ATTACH;FMTTYPE=image/jpeg:https://tourismburlington.ca/wp-content/uploads/2026/04/Lakeshore-Music-Arts-Festival-Graphic-1.jpg
END:VEVENT
BEGIN:VEVENT
DTSTART;VALUE=DATE:20260621
DTEND;VALUE=DATE:20260622
DTSTAMP:20260420T084833
CREATED:20260417T161431Z
LAST-MODIFIED:20260417T161431Z
UID:86545-1782000000-1782086399@tourismburlington.ca
SUMMARY:Lakeshore Music and Arts Festival
DESCRIPTION:Lakeshore Music & Arts Festival is a free\, two-day outdoor celebration taking place June 20–21\, 2026\, at Burlington’s iconic Spencer Smith Park. Set along the city’s stunning waterfront\, the festival will come alive as a vibrant\, multi-stage experience featuring nationally celebrated Canadian artists\, emerging performers\, local artisans\, an extensive selection of food trucks\, and engaging family-friendly programming. Lakeshore is poised to become one of Ontario’s premier outdoor music and cultural events for years to come.
URL:https://tourismburlington.ca/event/lakeshore-music-and-arts-festival-2/
LOCATION:Spencer Smith Park\, 1400 Lakeshore Road\, Burlington\, Ontario\, LY2 1Y2\, Canada
CATEGORIES:Arts & Culture,Community & Fundraisers,Family-Friendly,Festivals & Celebrations,Live Music & Entertainment,Markets & Shopping
ATTACH;FMTTYPE=image/jpeg:https://tourismburlington.ca/wp-content/uploads/2026/04/Lakeshore-Music-Arts-Festival-Graphic-1.jpg
END:VEVENT
BEGIN:VEVENT
DTSTART;VALUE=DATE:20260626
DTEND;VALUE=DATE:20260627
DTSTAMP:20260420T084833
CREATED:20260325T154318Z
LAST-MODIFIED:20260409T200830Z
UID:86478-1782432000-1782518399@tourismburlington.ca
SUMMARY:Burlington Latino Festival
DESCRIPTION:Experience the vibrant energy of the Burlington Latino Festival 2026\, a free\, family friendly celebration of Latin American culture in Burlington\, Ontario. Enjoy three unforgettable days filled with live music\, dance performances\, authentic Latin cuisine\, arts and crafts\, and activities for all ages. Held in a lively outdoor setting\, the festival brings together local and international talent\, cultural showcases\, and over 20 food vendors offering diverse flavours from across Latin America. Perfect for families\, food lovers\, and cultural enthusiasts\, this annual event highlights the richness\, diversity\, and community spirit of Latin culture in Canada.
URL:https://tourismburlington.ca/event/burlington-latino-festival/
LOCATION:Ireland Park\, 2315 Headon Forest Dr.\, Burlington\, ON\, Canada
CATEGORIES:Arts & Culture,Community & Fundraisers,Family-Friendly,Festivals & Celebrations,Live Music & Entertainment,Sports & Recreation
ATTACH;FMTTYPE=image/jpeg:https://tourismburlington.ca/wp-content/uploads/2026/03/banner-burlington-2026.jpg
ORGANIZER;CN="Burlington Latino Festival":MAILTO:manager@burlingtonlatinofest.com
END:VEVENT
BEGIN:VEVENT
DTSTART;VALUE=DATE:20260627
DTEND;VALUE=DATE:20260628
DTSTAMP:20260420T084833
CREATED:20260325T154623Z
LAST-MODIFIED:20260325T154623Z
UID:86481-1782518400-1782604799@tourismburlington.ca
SUMMARY:Burlington Latino Festival
DESCRIPTION:Experience the vibrant energy of the Burlington Latino Festival 2026\, a free\, family friendly celebration of Latin American culture in Burlington\, Ontario. Enjoy three unforgettable days filled with live music\, dance performances\, authentic Latin cuisine\, arts and crafts\, and activities for all ages. Held in a lively outdoor setting\, the festival brings together local and international talent\, cultural showcases\, and over 20 food vendors offering diverse flavours from across Latin America. Perfect for families\, food lovers\, and cultural enthusiasts\, this annual event highlights the richness\, diversity\, and community spirit of Latin culture in Canada.
URL:https://tourismburlington.ca/event/burlington-latino-festival-2/
LOCATION:Ireland Park\, 2315 Headon Forest Dr.\, Burlington\, ON\, Canada
CATEGORIES:Arts & Culture,Community & Fundraisers,Culinary Experiences,Family-Friendly,Festivals & Celebrations,Live Music & Entertainment,Sports & Recreation
ATTACH;FMTTYPE=image/jpeg:https://tourismburlington.ca/wp-content/uploads/2026/03/banner-burlington-2026.jpg
ORGANIZER;CN="Burlington Latino Festival":MAILTO:manager@burlingtonlatinofest.com
END:VEVENT
BEGIN:VEVENT
DTSTART;VALUE=DATE:20260628
DTEND;VALUE=DATE:20260629
DTSTAMP:20260420T084833
CREATED:20260325T154725Z
LAST-MODIFIED:20260325T154725Z
UID:86482-1782604800-1782691199@tourismburlington.ca
SUMMARY:Burlington Latino Festival
DESCRIPTION:Experience the vibrant energy of the Burlington Latino Festival 2026\, a free\, family friendly celebration of Latin American culture in Burlington\, Ontario. Enjoy three unforgettable days filled with live music\, dance performances\, authentic Latin cuisine\, arts and crafts\, and activities for all ages. Held in a lively outdoor setting\, the festival brings together local and international talent\, cultural showcases\, and over 20 food vendors offering diverse flavours from across Latin America. Perfect for families\, food lovers\, and cultural enthusiasts\, this annual event highlights the richness\, diversity\, and community spirit of Latin culture in Canada.
URL:https://tourismburlington.ca/event/burlington-latino-festival-3/
LOCATION:Ireland Park\, 2315 Headon Forest Dr.\, Burlington\, ON\, Canada
CATEGORIES:Arts & Culture,Community & Fundraisers,Culinary Experiences,Family-Friendly,Festivals & Celebrations,Live Music & Entertainment,Sports & Recreation
ATTACH;FMTTYPE=image/jpeg:https://tourismburlington.ca/wp-content/uploads/2026/03/banner-burlington-2026.jpg
ORGANIZER;CN="Burlington Latino Festival":MAILTO:manager@burlingtonlatinofest.com
END:VEVENT
END:VCALENDAR