BEGIN:VCALENDAR
VERSION:2.0
PRODID:-//Burlington Economic Development and Tourism - ECPv6.15.20//NONSGML v1.0//EN
CALSCALE:GREGORIAN
METHOD:PUBLISH
X-ORIGINAL-URL:https://tourismburlington.ca
X-WR-CALDESC:Events for Burlington Economic Development and Tourism
REFRESH-INTERVAL;VALUE=DURATION:PT1H
X-Robots-Tag:noindex
X-PUBLISHED-TTL:PT1H
BEGIN:VTIMEZONE
TZID:America/New_York
BEGIN:DAYLIGHT
TZOFFSETFROM:-0500
TZOFFSETTO:-0400
TZNAME:EDT
DTSTART:20250309T070000
END:DAYLIGHT
BEGIN:STANDARD
TZOFFSETFROM:-0400
TZOFFSETTO:-0500
TZNAME:EST
DTSTART:20251102T060000
END:STANDARD
BEGIN:DAYLIGHT
TZOFFSETFROM:-0500
TZOFFSETTO:-0400
TZNAME:EDT
DTSTART:20260308T070000
END:DAYLIGHT
BEGIN:STANDARD
TZOFFSETFROM:-0400
TZOFFSETTO:-0500
TZNAME:EST
DTSTART:20261101T060000
END:STANDARD
BEGIN:DAYLIGHT
TZOFFSETFROM:-0500
TZOFFSETTO:-0400
TZNAME:EDT
DTSTART:20270314T070000
END:DAYLIGHT
BEGIN:STANDARD
TZOFFSETFROM:-0400
TZOFFSETTO:-0500
TZNAME:EST
DTSTART:20271107T060000
END:STANDARD
END:VTIMEZONE
BEGIN:VEVENT
DTSTART;TZID=America/New_York:20260328T110000
DTEND;TZID=America/New_York:20260328T180000
DTSTAMP:20260420T113947
CREATED:20260218T154912Z
LAST-MODIFIED:20260219T195447Z
UID:86134-1774695600-1774720800@tourismburlington.ca
SUMMARY:The Maple Syrup Festival
DESCRIPTION:🍁 IT’S OFFICIALLY MAPLE SEASON\, BURLINGTON! 🍁\n🎉 @themaplesyrupfestival by @streeteatsmarket is officially coming to Burlington for TWO delicious weekends and it’s FREE ADMISSION!\n📅 March 21 & 22 + March 28 & 29\, 2026\n📍 1016 Waterdown Road\n🎟️ FREE Admission\n🚗 FREE Parking\nGet ready for a full-on maple celebration packed with flavour\, family fun\, and all things Canadian! 🇨🇦🍁\nHere’s just a taste of what’s waiting for you:\n🎨 FREE face painting\n🥞 Pancake station piled high with syrup\n🍁 Fresh maple taffy poured on snow\n🍩 Maple-themed foods & desserts\n🥤 Maple drink bar\n🔥 Marshmallow fire pits\n🎨 Maple leaf crafts & colouring station\n🎮 Kids game zone\n📸 Maple photo moments\n🛍️ Maple syrup vendors & maple products\n🍪 Handmade goods\, baked treats & seasonal finds\nWhether you’re coming for the taffy\, the pancakes\, the shopping\, or the cozy fire pit vibes – this is the ultimate way to celebrate maple season with family and friends.
URL:https://tourismburlington.ca/event/the-maple-syrup-festival-3/
LOCATION:1016 Waterdown Road\, 1016 Waterdown Road\, Burlington\, Ontario\, L7T1N3
CATEGORIES:Community & Fundraisers,Family-Friendly,Live Music & Entertainment
ATTACH;FMTTYPE=image/png:https://tourismburlington.ca/wp-content/uploads/2026/02/X_s4G3j0.png
END:VEVENT
END:VCALENDAR