BEGIN:VCALENDAR
VERSION:2.0
PRODID:-//Burlington Economic Development and Tourism - ECPv6.15.20//NONSGML v1.0//EN
CALSCALE:GREGORIAN
METHOD:PUBLISH
X-ORIGINAL-URL:https://tourismburlington.ca
X-WR-CALDESC:Events for Burlington Economic Development and Tourism
REFRESH-INTERVAL;VALUE=DURATION:PT1H
X-Robots-Tag:noindex
X-PUBLISHED-TTL:PT1H
BEGIN:VTIMEZONE
TZID:America/New_York
BEGIN:DAYLIGHT
TZOFFSETFROM:-0500
TZOFFSETTO:-0400
TZNAME:EDT
DTSTART:20250309T070000
END:DAYLIGHT
BEGIN:STANDARD
TZOFFSETFROM:-0400
TZOFFSETTO:-0500
TZNAME:EST
DTSTART:20251102T060000
END:STANDARD
BEGIN:DAYLIGHT
TZOFFSETFROM:-0500
TZOFFSETTO:-0400
TZNAME:EDT
DTSTART:20260308T070000
END:DAYLIGHT
BEGIN:STANDARD
TZOFFSETFROM:-0400
TZOFFSETTO:-0500
TZNAME:EST
DTSTART:20261101T060000
END:STANDARD
BEGIN:DAYLIGHT
TZOFFSETFROM:-0500
TZOFFSETTO:-0400
TZNAME:EDT
DTSTART:20270314T070000
END:DAYLIGHT
BEGIN:STANDARD
TZOFFSETFROM:-0400
TZOFFSETTO:-0500
TZNAME:EST
DTSTART:20271107T060000
END:STANDARD
END:VTIMEZONE
BEGIN:VEVENT
DTSTART;TZID=America/New_York:20260521T183000
DTEND;TZID=America/New_York:20260521T223000
DTSTAMP:20260424T171819
CREATED:20260423T180911Z
LAST-MODIFIED:20260423T180911Z
UID:86576-1779388200-1779402600@tourismburlington.ca
SUMMARY:RBG After Dark: Spring into Summer (19+)
DESCRIPTION:Spring has finally sprung with the return of RBG’s After Dark 19+ summer series! Let’s kick things off right with the backyard party we have all been waiting for. Join us for great music\, delicious food\, and lively entertainment as we once again transform our gardens into the perfect patio party experience.
URL:https://tourismburlington.ca/event/rbg-after-dark-spring-into-summer-19/
LOCATION:Royal Botanical Gardens: Rock Garden\, 1185 York Boulevard\, Hamilton\, ON\, L0R 2H9\, Canada
CATEGORIES:Live Music & Entertainment,Sports & Recreation
ATTACH;FMTTYPE=image/jpeg:https://tourismburlington.ca/wp-content/uploads/2026/04/2025_AfterDark_May_042.jpg
END:VEVENT
END:VCALENDAR