BEGIN:VCALENDAR
VERSION:2.0
PRODID:-//Burlington Economic Development and Tourism - ECPv6.15.20//NONSGML v1.0//EN
CALSCALE:GREGORIAN
METHOD:PUBLISH
X-ORIGINAL-URL:https://tourismburlington.ca
X-WR-CALDESC:Events for Burlington Economic Development and Tourism
REFRESH-INTERVAL;VALUE=DURATION:PT1H
X-Robots-Tag:noindex
X-PUBLISHED-TTL:PT1H
BEGIN:VTIMEZONE
TZID:America/New_York
BEGIN:DAYLIGHT
TZOFFSETFROM:-0500
TZOFFSETTO:-0400
TZNAME:EDT
DTSTART:20250309T070000
END:DAYLIGHT
BEGIN:STANDARD
TZOFFSETFROM:-0400
TZOFFSETTO:-0500
TZNAME:EST
DTSTART:20251102T060000
END:STANDARD
BEGIN:DAYLIGHT
TZOFFSETFROM:-0500
TZOFFSETTO:-0400
TZNAME:EDT
DTSTART:20260308T070000
END:DAYLIGHT
BEGIN:STANDARD
TZOFFSETFROM:-0400
TZOFFSETTO:-0500
TZNAME:EST
DTSTART:20261101T060000
END:STANDARD
BEGIN:DAYLIGHT
TZOFFSETFROM:-0500
TZOFFSETTO:-0400
TZNAME:EDT
DTSTART:20270314T070000
END:DAYLIGHT
BEGIN:STANDARD
TZOFFSETFROM:-0400
TZOFFSETTO:-0500
TZNAME:EST
DTSTART:20271107T060000
END:STANDARD
END:VTIMEZONE
BEGIN:VTIMEZONE
TZID:Europe/London
BEGIN:DAYLIGHT
TZOFFSETFROM:+0000
TZOFFSETTO:+0100
TZNAME:BST
DTSTART:20250330T010000
END:DAYLIGHT
BEGIN:STANDARD
TZOFFSETFROM:+0100
TZOFFSETTO:+0000
TZNAME:GMT
DTSTART:20251026T010000
END:STANDARD
BEGIN:DAYLIGHT
TZOFFSETFROM:+0000
TZOFFSETTO:+0100
TZNAME:BST
DTSTART:20260329T010000
END:DAYLIGHT
BEGIN:STANDARD
TZOFFSETFROM:+0100
TZOFFSETTO:+0000
TZNAME:GMT
DTSTART:20261025T010000
END:STANDARD
BEGIN:DAYLIGHT
TZOFFSETFROM:+0000
TZOFFSETTO:+0100
TZNAME:BST
DTSTART:20270328T010000
END:DAYLIGHT
BEGIN:STANDARD
TZOFFSETFROM:+0100
TZOFFSETTO:+0000
TZNAME:GMT
DTSTART:20271031T010000
END:STANDARD
END:VTIMEZONE
BEGIN:VEVENT
DTSTART;VALUE=DATE:20260709
DTEND;VALUE=DATE:20260710
DTSTAMP:20260424T062659
CREATED:20260409T200511Z
LAST-MODIFIED:20260409T200632Z
UID:86527-1783555200-1783641599@tourismburlington.ca
SUMMARY:Canada Celebrates: FIFA World Cup 2026™
DESCRIPTION:Get ready\, Burlington! On July 9\, the city will host Canada Celebrates the FIFA World Cup 2026™\, a first-of-its-kind\, coast-to-coast-to-coast celebration bringing the energy\, pride\, and passion of the world’s biggest sporting event to communities across the country. This free\, family-friendly fan experience will feature live match viewings\, football-themed activations\, cultural programming\, music\, food\, and moments of national pride. As part of a 38-stop journey connecting communities nationwide\, Canada Celebrates invites residents and visitors to come together\, celebrate the beautiful game\, and be part of this historic moment as Canada takes the global stage. \nStay tuned for more information including timing!
URL:https://tourismburlington.ca/event/canada-celebrates-fifa-world-cup-2026/
LOCATION:Spencer Smith Park\, 1400 Lakeshore Road\, Burlington\, Ontario\, LY2 1Y2\, Canada
CATEGORIES:Family-Friendly,Featured Events,Festivals & Celebrations,Live Music & Entertainment,Sports & Recreation
ATTACH;FMTTYPE=image/jpeg:https://tourismburlington.ca/wp-content/uploads/2026/04/16x9-WELCOME-General.jpg
ORGANIZER;CN="City of Burlington":MAILTO:city@burlington.ca
END:VEVENT
BEGIN:VEVENT
DTSTART;TZID=Europe/London:20260709T110000
DTEND;TZID=Europe/London:20260709T110000
DTSTAMP:20260424T062659
CREATED:20260321T182658Z
LAST-MODIFIED:20260321T182658Z
UID:86429-1783594800-1783594800@tourismburlington.ca
SUMMARY:MEAN GIRLS
DESCRIPTION:Music: Jeff Richmond\, Lyrics: Nell Benjamin\, Book: Tina Fey \nA 2004 American teen comedy film featuring teenage Cady Heron who was educated in Africa by her scientist parents. When her family moved to the suburbs of Illinois\, she finally gets to experience public school and gets a quick primer on the cruel\, tacit laws of popularity that divide her fellow students into tightly knit cliques. She unwittingly finds herself in the good graces of an elite group of cool students dubbed ?The Plastics\,? but soon realizes how her shallow group of new friends earned this nickname.
URL:https://tourismburlington.ca/event/mean-girls-2/
LOCATION:Burlington Performing Arts Centre\, 440 Locust Street\, Burlington\, Ontario\, L7S 1T7\, Canada
CATEGORIES:Live Music & Entertainment
ATTACH;FMTTYPE=image/jpeg:https://tourismburlington.ca/wp-content/uploads/2026/03/MeanGirls-800x500-1-scaled-e1763183470414.jpg
END:VEVENT
BEGIN:VEVENT
DTSTART;TZID=Europe/London:20260709T143000
DTEND;TZID=Europe/London:20260709T143000
DTSTAMP:20260424T062659
CREATED:20260321T182658Z
LAST-MODIFIED:20260321T182658Z
UID:86430-1783607400-1783607400@tourismburlington.ca
SUMMARY:MEAN GIRLS
DESCRIPTION:Music: Jeff Richmond\, Lyrics: Nell Benjamin\, Book: Tina Fey \nA 2004 American teen comedy film featuring teenage Cady Heron who was educated in Africa by her scientist parents. When her family moved to the suburbs of Illinois\, she finally gets to experience public school and gets a quick primer on the cruel\, tacit laws of popularity that divide her fellow students into tightly knit cliques. She unwittingly finds herself in the good graces of an elite group of cool students dubbed ?The Plastics\,? but soon realizes how her shallow group of new friends earned this nickname.
URL:https://tourismburlington.ca/event/mean-girls/
LOCATION:Burlington Performing Arts Centre\, 440 Locust Street\, Burlington\, Ontario\, L7S 1T7\, Canada
CATEGORIES:Live Music & Entertainment
ATTACH;FMTTYPE=image/jpeg:https://tourismburlington.ca/wp-content/uploads/2026/03/MeanGirls-800x500-1-scaled-e1763183470414.jpg
END:VEVENT
END:VCALENDAR